BEGIN:VCALENDAR
VERSION:2.0
PRODID:-//https://old.pecc.org///NONSGML kigkonsult.se iCalcreator 2.10.15//
METHOD:PUBLISH
BEGIN:VEVENT
UID:20260423T110120UTC-2175cpurMw@https://old.pecc.org/
DTSTAMP:20260423T110120Z
DESCRIPTION:The 28th Pacific Economic Community Seminar\n“TPP and RCEP: Eme
 rging Dual-Track Pathways towards FTAAP”\nOrganizers: Chinese Taipei Pacif
 ic Economic Cooperation Committee (CTPECC)\nTaiwan Institute of Economic R
 esearch (TIER)\nNovember 13-14\, 2013\nRegent Taipei  \n&nbsp\;\nIntroduct
 ion\nThe regional economic integration (REI) has long been recognized as o
 ne of the most important issues for Asia-Pacific economies\, as REI accele
 rates reducing trade barriers and creating a favorable business environmen
 t. In the region of Asia-Pacific\, the Trans-Pacific Partnership (TPP) and
  the Regional Comprehensive Economic Partnership (RCEP) have been identifi
 ed as two potential REI pathways to achieve the ultimate goal of the Free 
 Trade Area of Asia-Pacific (FTAAP). At the emergence of the two pathways s
 ome key questions has been increasingly addressed. Are these two tracks in
  competition or complementation? How can TPP and RCEP converge to progress
  further? Are there potential impacts caused by the TPP and RCEP on member
 s or non-members? How can members\, possible members and non-members addre
 ss the impacts?\nTo seek answers for those questions\, the Chinese Taipei 
 Pacific Economic Cooperation Committee (CTPECC) and Taiwan Institute of Ec
 onomic Research (TIER) would like to cordially invite opinion leaders in o
 ur region to share their distinguished views and exchange ideas with repre
 sentatives from business\, government and academic circles in Chinese Taip
 ei.\n\n\n\n\nWednesday\, November 13\n\n\n\n\n0830-0920\n\n\nRegistration
 \n\n\n\n\n0920-0935\n\n\nOpening Session\nWelcome RemarksSession Chair:\n
 \nDavid Hong\, Chair\, CTPECC\n\nGroup Photo\n\nDistinguished guests\, spe
 akers and discussants\n\n\n\n\n\n0935 - 1000\n\n\nCoffee Break\n\n\n\n\n10
 00-1200\n\n\nSession 1: RCEP: Consolidating from Asia TrackSession Chair:
 \n\nTan Khee Giap\, Chair\, SINCPEC\n\nSpeakers:&nbsp\;&nbsp\;&nbsp\;&nbsp
 \;&nbsp\;&nbsp\; \n\nGary Hawke\, Professor\, New Zealand Institute of Eco
 nomic Research  TPP and RCEP\; Emerging Dual-Track Pathways towards FTAAP 
 (1.92 MB)\nBo Chen\, Department Chair\, Shanghai University of Finance &am
 p\; Economics China (Shanghai) Pilot Free Trade Zone: A Solid Step Towards
  RCEP and the Alike (649.26 kB)\n\n&nbsp\;Discussants:\n\nSeng Cheng Hu\, 
 Academician\, Academic Sinica\nIan Buchanan\, Chair\, AUSPECC\nVipada M. T
 uchinda\, Assistant Director\, Fiscal Policy Research Institute (FPRI)\n\n
 Q&amp\;A\n\n\n\n\n1200-1330\n\n\nLunch\n\n\n\n\n1330-1530\n\n\nSession 2: 
 TPP vs RCEP: Building Blocks towards Greater Regional Economic Integration
 ? Session Chair:&nbsp\;&nbsp\;&nbsp\; \n\nDavid Hong\, Chair\, CTPECC \n\n
 Speakers: \n\nTan Khee Giap\, Chair\, SINCPEC ASEAN-10 Competitiveness\, I
 mpact of Global Growth Engines\, REI through FTA (1.44 MB)\nKenichi Kawasa
 ki\, Consulting Fellow\, Research Institute of Economy\, Trade &amp\; Indu
 stry\, IAA (RIETI) TPP vs RCEP? - Competitor or Complements? (424.96 kB)\n
 \nDiscussants: \n\nManfred Wilhelmy\, Chair\, CHILPEC\nChul Chung\, Execut
 ive Director\, KOPEC\nYose Rizal Damuri\, Head of Department of Economics\
 , CSIS\, Indonesia \n\nQ&amp\;A \n\n\n\n\n1550 - 1650\n\n\nConcluding Sess
 ionSession Chair:\n\nSeng Cheng Hu\, Academician\, Academic Sinica\n\nDisc
 ussants:\n\nTan Khee Giap\, Chair\, SINCPEC\nManfred Wilhelmy\, Chair\, CH
 ILPEC\nChul Chung\, Executive Director\, KOPEC\nIan Buchanan\, Chair\, AUS
 PECC\n\nQ&amp\;A\n\n\n\n\n1830 - 2000\n\n\nWelcome Dinner\n\n\n\n\nThursda
 y\, November 14\n\n\n\n\n0900 &nbsp\;- 1200\n\n\nRoundtable Session: Chall
 enges and Opportunities for REI Members and Non-membersSession Chairs:\n\n
 David Hong\, Chair\, CTPECC\nIan Buchanan\, Chair\, AUSPECC\n\nDiscussants
 : \nAll speakers\, discussants and Chinese Taipei participants\n\n\n\n htt
 ps://mail.old.pecc.org/event-calendar/past-events/event/330-ctpecc-the-28t
 h-pacific-economic-community-seminar
DTSTART:20131113T000000Z
DTEND:20131114T000000Z
LOCATION:Chinese Taipei\, Taipei ()
SUMMARY:CTPECC: The 28th Pacific Economic Community Seminar
URL:https://mail.old.pecc.org/event-calendar/past-events/event/330-ctpecc-t
 he-28th-pacific-economic-community-seminar
END:VEVENT
END:VCALENDAR
