BEGIN:VCALENDAR
VERSION:2.0
PRODID:-//https://old.pecc.org///NONSGML kigkonsult.se iCalcreator 2.10.15//
METHOD:PUBLISH
BEGIN:VEVENT
UID:20260423T130711UTC-8180hwukZk@https://old.pecc.org/
DTSTAMP:20260423T130711Z
DESCRIPTION:&nbsp\;\nThe 32nd Pacific Economic Community Seminar\n&nbsp\;\n
 'Quest for Economic Growth Engines'\n&nbsp\;\n14-15 November 2017 Chinese 
 Taipei\n&nbsp\;\nOrganizer: Chinese Taipei Pacific Economic Cooperation Co
 mmittee (CTPECC)\n&nbsp\;\nAgenda\n&nbsp\;\n\n\n\n\nTuesday\, 14 November 
 2017 \n&nbsp\;\n\n\n\n\n0900 - 0930&nbsp\;\n\n\nRegistration\n&nbsp\;\n\n
 \n\n\n0930 - 1000\n\n\nOpening Session\n&nbsp\;\n&nbsp\;Session Chair:\n\n
 \n\n\n&nbsp\;Chien-Fu Lin\, Chairman\, CTPECC\; President\, Taiwan Institu
 te of Economic Research\n\n\n\n\n&nbsp\;\nWelcome Remarks:\n\n\n\n\nPaul W
 en-liang Chang\, Vice Chairman\, CTPECC\n\n\n\n\n&nbsp\;\nGroup Photo:\n\n
 \n\n\nSession Chairs\, Speakers and Discussants\n\n\n\n\n&nbsp\;\n\n\n\n\n
 1000 - 1010\n\n\nCoffee Break\n&nbsp\;\n\n\n\n\n1010 - 1130\n\n\nKeynote S
 peech\n&nbsp\;\nSession Chair:\n\n\nChen-Sheng Ho\, Director\, Department 
 of International Affairs\, Taiwan Institute of Economic Affairs\n\n\n&nbsp
 \;\n'How have global value chains changed Asia-Pacific? Implication for de
 velopment strategies and international commercial policies' \n&nbsp\;\nKey
 note Speaker:\n\n\n\n\nFukunari Kimura\, Chief Economist\, Economic Resear
 ch Institute for ASEAN and East Asia\n\n\n\n\n&nbsp\;\nQ&amp\;A\n&nbsp\;\n
 \n\n\n\n1130 - 1300\n\n\nLunch\n&nbsp\;\n\n\n\n\n1300 - 1450\n\n\nSession 
 I: Regional Economic Integration and relevant effects\nThe US President Tr
 ump has signed an executive order to withdraw from the TPP (Trans-Pacific 
 Partnership) adding uncertainties to regional cooperation and economic int
 egration in the Asia-Pacific Region. The rise of anti-globalization sentim
 ent has been a highly visible phenomenon evidenced by political and econom
 ic unrest. What we can do to face the challenges of rising anti-globalizat
 ion sentiment and to keep promote REI and regional cooperation in our regi
 on are essential and critical.\n&nbsp\;\nSession Chair:\n\n\n\n\nLawrence 
 Lee\, Vice-Chairman\, CTPECC\n\n\n\n\n&nbsp\;\nSpeakers:\n\n\n\n\nYih-Chyi
  Chuang\, Professor\, Department of Economics\, National Chengchi Universi
 ty\n\n\nAndrew Elek\, Research Associate\, Australian National University
 \n\n\n\n\n&nbsp\;\nDiscussants:\n\n\n\n\nVo Tri Thanh\, Chair\, Vietnam Na
 tional Committee for Pacific Economic Cooperation (VNCPEC)\n\n\nTan Khee G
 iap\, Chair\, Singapore National Committee for Pacific Economic Cooperatio
 n (CTPECC)\n\n\nChen-Sheng Ho\, Director\, Department of International Aff
 airs\, Taiwan Institute of Economic Affairs\n\n\n\n\n&nbsp\;\nQ&amp\;A\n&n
 bsp\;\n\n\n\n\n1450 - 1505\n\n\nCoffee Break\n&nbsp\;\n\n\n\n\n1505 - 1700
 \n\n\nSession II: The opportunities and challenges of the Fourth Industria
 l Revolution\nAs the global trade liberalization and integration has helpe
 d pushed forward greater innovation and productivity\, APEC is developing 
 a roadmap for internet and digital economy to meet the future needs of our
  region. In addition\, the fourth industrial revolution is relevant to a d
 igital transformation in the Asia-Pacific supply value chain processes. Wi
 thin such industrial processes\, digital technologies such as cyber physic
 al systems\, the Internet of things and cloud computing will be increasing
 ly embraced. The essential goal of new industrial revolution is to make ma
 nufacturing faster\, more efficient and more customer-centric. However\, i
 t is claimed that challenges may be brought about\, include IT security\, 
 reliability and continuous productivity\, industrial knowhow protection\, 
 lack of adequate skill-sets\, loss of jobs to automatic and IT-controlled 
 process and so on. Does the coming of new industrial revolution offer more
  economic opportunities? How does it play a role of economic growth? What 
 are the potential solutions for relevant challenges\, if there is any?\n&n
 bsp\;\nSession Chair:\n\n\n\n\nAlbert Ting\, Vice Chairman\, CTPECC\n\n\n
 \n\n&nbsp\;\nSpeakers:\n\n\n\n\nStephen Ezell\, Vice President\, Informati
 on Technology and Innovation Foundation\n\n\nChorng-Tyan Lin\, Director\, 
 Metal Industries Research &amp\; Development Centre\n\n\n\n\n&nbsp\;\nDisc
 ussants\n\n\n\n\nKyunjin Song\, President\, Institute for Global Economics
 \, Seoul\, Korea\n\n\nWangbor Chen\, CEO\, Bordao Co.\n\n\nCan Van Luc\, S
 EVP of BIDV\; Director of BIDV Training School\; Member of VNCPEC\n\n\nEdu
 ardo Pedrosa\, Secretary General\, Pacific Economic Cooperation Council\n
 \n\n\n\n&nbsp\;\nQ&amp\;A\n&nbsp\;\n\n\n\n\nWednesday\, 15 November 2017\n
 &nbsp\;\n\n\n\n\n1000 - 1200\n\n\nRoundtable Session\nIn the roundtable se
 ssion\, issues analyzed and conclusions made in previous sessions on Day 1
  will be thoroughly an unreservedly discussed.\n&nbsp\;\nSession Chair:\n
 \n\n\n\nMignonne Chan\, Founder &amp\; CEO\, Out-of-the-Box Consultancy\n
 \n\n\n\n&nbsp\;\nDiscussants:\n\n\n\n\nAll speakers\, discussants and Chin
 ese Taipei participants\n\n\n\n\n\n\n\n https://mail.old.pecc.org/event-ca
 lendar/past-events/event/513-the-32nd-pacific-economic-community-seminar-q
 uest-for-economic-growth-engines
DTSTART:20171114T050000Z
DTEND:20171116T001000Z
LOCATION:Chinese Taipei\, Taipei ()
SUMMARY:The 32nd Pacific Economic Community Seminar  - Quest for Economic G
 rowth Engines
URL:https://mail.old.pecc.org/event-calendar/past-events/event/513-the-32nd
 -pacific-economic-community-seminar-quest-for-economic-growth-engines
END:VEVENT
END:VCALENDAR
