BEGIN:VCALENDAR
VERSION:2.0
PRODID:-//https://old.pecc.org///NONSGML kigkonsult.se iCalcreator 2.10.15//
METHOD:PUBLISH
BEGIN:VEVENT
UID:20260423T110307UTC-6453FnHZvu@https://old.pecc.org/
DTSTAMP:20260423T110307Z
DESCRIPTION: https://mail.old.pecc.org/event-calendar/past-events/event/681
 -apec-second-senior-officials-meeting-and-related-meetings-som2
DTSTART:20230514T073700Z
DTEND:20230526T093700Z
LOCATION:USA\, Detroit\, Michigan ()
SUMMARY:APEC Second Senior Officials' Meeting and Related Meetings (SOM2)
URL:https://mail.old.pecc.org/event-calendar/past-events/event/681-apec-sec
 ond-senior-officials-meeting-and-related-meetings-som2
END:VEVENT
END:VCALENDAR
